BEGIN:VCALENDAR
METHOD:PUBLISH
CALSCALE:GREGORIAN
PRODID:Philharmonie.lu
VERSION:2.0
BEGIN:VEVENT
DTSTAMP:20210423T111100
DTSTART:20210303T200000
DTEND:20210303T220000
LOCATION:Grand Auditorium
SUMMARY:Arditti Quartet
DESCRIPTION:None
Jonathan Harvey: String Quartet N° 2
Toshio Hosokawa: Passage
Betsy Jolas: Quatuor VIII à cordes «Topeng»
György Ligeti: Streichquartett N° 2
UID:event2905@Philharmonie.lu
URL:https://www.philharmonie.lu/programm/arditti-quartet/2905
END:VEVENT
END:VCALENDAR
