BEGIN:VCALENDAR
METHOD:PUBLISH
CALSCALE:GREGORIAN
PRODID:Philharmonie.lu
VERSION:2.0
BEGIN:VEVENT
DTSTAMP:20210423T105500
DTSTART:20210430T190000
DTEND:20210430T210000
LOCATION:Luxembourg, Grand Théâtre
SUMMARY:«Ariadne auf Naxos» Lawrence Renes / OPL
DESCRIPTION:None
Richard Strauss: Ariadne auf Naxos (en allemand, avec surtitres en français et allemand)
UID:event2968@Philharmonie.lu
URL:https://www.philharmonie.lu/programm/ariadne-auf-naxos-lawrence-renes-opl/2968
END:VEVENT
END:VCALENDAR
