BEGIN:VCALENDAR
METHOD:PUBLISH
CALSCALE:GREGORIAN
PRODID:Philharmonie.lu
VERSION:2.0
BEGIN:VEVENT
DTSTAMP:20200127T145600
DTSTART:20200118T150000
DTEND:20200118T160000
LOCATION:Espace Découverte
SUMMARY:«Auf ins All»
DESCRIPTION:Mit Musik durch Zeit und Raum
UID:event2401@Philharmonie.lu
URL:https://www.philharmonie.lu/programm/auf-ins-all/2401
END:VEVENT
END:VCALENDAR
