BEGIN:VCALENDAR
METHOD:PUBLISH
CALSCALE:GREGORIAN
PRODID:Philharmonie.lu
VERSION:2.0
BEGIN:VEVENT
DTSTAMP:20200127T145700
DTSTART:20200119T110000
DTEND:20200119T120000
LOCATION:Espace Découverte
SUMMARY:«Auf ins All»
DESCRIPTION:Mit Musik durch Zeit und Raum
UID:event2403@Philharmonie.lu
URL:https://www.philharmonie.lu/programm/auf-ins-all/2403
END:VEVENT
END:VCALENDAR
