BEGIN:VCALENDAR
METHOD:PUBLISH
CALSCALE:GREGORIAN
PRODID:Philharmonie.lu
VERSION:2.0
BEGIN:VEVENT
DTSTAMP:20211011T130400
DTSTART:20200702T190000
DTEND:20200702T210000
LOCATION:Grand Auditorium
SUMMARY:Back to live – Alena Baeva / Vadym Kholodenko
DESCRIPTION:None
Franz Schubert: Fantasie für Violine und Klavier D 934
Ludwig van Beethoven: Violinsonate op. 47 «Kreutzer-Sonate» / «Sonate à Kreutzer»
UID:event3069@Philharmonie.lu
URL:https://www.philharmonie.lu/programm/back-to-live-alena-baeva-vadym-kholodenko/3069
END:VEVENT
END:VCALENDAR
