BEGIN:VCALENDAR
METHOD:PUBLISH
CALSCALE:GREGORIAN
PRODID:Philharmonie.lu
VERSION:2.0
BEGIN:VEVENT
DTSTAMP:20211011T130300
DTSTART:20200716T190000
DTEND:20200716T210000
LOCATION:Grand Auditorium
SUMMARY:Back to live – Francesco Tristano
DESCRIPTION:None
UID:event3071@Philharmonie.lu
URL:https://www.philharmonie.lu/programm/back-to-live-francesco-tristano/3071
END:VEVENT
END:VCALENDAR
