BEGIN:VCALENDAR
METHOD:PUBLISH
CALSCALE:GREGORIAN
PRODID:Philharmonie.lu
VERSION:2.0
BEGIN:VEVENT
DTSTAMP:20211011T130200
DTSTART:20200709T190000
DTEND:20200709T210000
LOCATION:Grand Auditorium
SUMMARY:Back to live –  Gustavo Gimeno / Orchestre Philharmonique du Luxembourg
DESCRIPTION:None
Franz Schubert: Die Zauberharfe (Rosamunde): Ouvertüre D 644
Ludwig van Beethoven: Symphonie N° 6 «Pastorale»
UID:event3070@Philharmonie.lu
URL:https://www.philharmonie.lu/programm/back-to-live-gustavo-gimeno-orchestre-philharmonique-du-luxembourg/3070
END:VEVENT
END:VCALENDAR
