BEGIN:VCALENDAR
METHOD:PUBLISH
CALSCALE:GREGORIAN
PRODID:Philharmonie.lu
VERSION:2.0
BEGIN:VEVENT
DTSTAMP:20211011T130400
DTSTART:20200618T190000
DTEND:20200618T210000
LOCATION:Grand Auditorium
SUMMARY:Back to live – Reis / Demuth / Wiltgen
DESCRIPTION:None
UID:event3067@Philharmonie.lu
URL:https://www.philharmonie.lu/programm/back-to-live-reis-demuth-wiltgen/3067
END:VEVENT
END:VCALENDAR
