BEGIN:VCALENDAR
METHOD:PUBLISH
CALSCALE:GREGORIAN
PRODID:Philharmonie.lu
VERSION:2.0
BEGIN:VEVENT
DTSTAMP:20210423T111500
DTSTART:20210316T203000
DTEND:20210316T223000
LOCATION:Grand Auditorium
SUMMARY:Belcea Quartet / Tabea Zimmermann / Jean-Guihen Queyras
DESCRIPTION:None
Johannes Brahms: Streichsextett N° 1
Johannes Brahms: Streichsextett N° 2
UID:event2916@Philharmonie.lu
URL:https://www.philharmonie.lu/programm/belcea-quartet-tabea-zimmermann-jean-guihen-queyras/2916
END:VEVENT
END:VCALENDAR
