BEGIN:VCALENDAR
METHOD:PUBLISH
CALSCALE:GREGORIAN
PRODID:Philharmonie.lu
VERSION:2.0
BEGIN:VEVENT
DTSTAMP:20210425T192500
DTSTART:20181117T200000
DTEND:20181117T220000
LOCATION:Grand Auditorium
SUMMARY:Ciné-concert
DESCRIPTION:None
Film: Paris qui dort
UID:event2120@Philharmonie.lu
URL:https://www.philharmonie.lu/programm/cine-concert/2120
END:VEVENT
END:VCALENDAR
