BEGIN:VCALENDAR
METHOD:PUBLISH
CALSCALE:GREGORIAN
PRODID:Philharmonie.lu
VERSION:2.0
BEGIN:VEVENT
DTSTAMP:20210423T105500
DTSTART:20210509T110000
DTEND:20210509T130000
LOCATION:Salle de Musique de Chambre
SUMMARY:Concert-apéritif VI – Amis de l'OPL
DESCRIPTION:None
Joseph Joachim Raff: Oktett op. 176
Max Bruch: Oktett B-Dur (si bémol majeur) für Streicher op. posth.
UID:event2981@Philharmonie.lu
URL:https://www.philharmonie.lu/programm/concert-aperitif-vi-amis-de-lopl/2981
END:VEVENT
END:VCALENDAR
