BEGIN:VCALENDAR
METHOD:PUBLISH
CALSCALE:GREGORIAN
PRODID:Philharmonie.lu
VERSION:2.0
BEGIN:VEVENT
DTSTAMP:20210423T105500
DTSTART:20210428T200000
DTEND:20210428T220000
LOCATION:Ettelbruck, CAPE
SUMMARY:Concert des Lauréats des Conservatoires du Luxembourg
DESCRIPTION:None
Felix Mendelssohn Bartholdy: Violinkonzert: 1. Allegro molto appassionato
William Walton: Viola Concerto: 1. Andante comodo
Michel Lysight: Concerto for bass clarinet and string orchestra
Ludwig van Beethoven: Klavierkonzert N° 3: 3. Rondo: Allegro
UID:event2967@Philharmonie.lu
URL:https://www.philharmonie.lu/programm/concert-des-laureats-des-conservatoires-du-luxembourg/2967
END:VEVENT
END:VCALENDAR
