BEGIN:VCALENDAR
METHOD:PUBLISH
CALSCALE:GREGORIAN
PRODID:Philharmonie.lu
VERSION:2.0
BEGIN:VEVENT
DTSTAMP:20211007T055200
DTSTART:20180224T160000
DTEND:20180224T170000
LOCATION:Espace Découverte
SUMMARY:«D’Bremer Stadtsmusikanten»
DESCRIPTION:En Erzieltheaterstéck vun de Grimm Bridder mat engem Streichquartett
Joseph Haydn: Symphonie N° 94 «Mit dem Paukenschlag» / «La Surprise»: 2. Andante
Johann Sebastian Bach: Cellosuite N° 2 BWV 1008: 2. Allemande
Johann Sebastian Bach: Cellosuite N° 2 BWV 1008: 3. Courante
Johann Sebastian Bach: Solosonate N° 2 BWV 1003: 3. Andante
Johann Sebastian Bach: Partita N° 3 BWV 1006: 3. Gavotte
Joseph Haydn: Die sieben letzten Worte unseres Erlösers am Kreuze (Les sept dernières paroles du Christ en Croix): Il terremoto
Joseph Haydn: Streichquartett op. 77/1: 3. Menuet: Presto – Trio
Joseph Haydn: Streichquartett op. 20/1 «Sonnenquartett N° 1»: 3. Affetuoso e sostenuto
UID:event1572@Philharmonie.lu
URL:https://www.philharmonie.lu/programm/dbremer-stadtsmusikanten/1572
END:VEVENT
END:VCALENDAR
