BEGIN:VCALENDAR
METHOD:PUBLISH
CALSCALE:GREGORIAN
PRODID:Philharmonie.lu
VERSION:2.0
BEGIN:VEVENT
DTSTAMP:20211007T054800
DTSTART:20180512T160000
DTEND:20180512T170000
LOCATION:Espace Découverte
SUMMARY:«De Fräschekinnek»
DESCRIPTION:Eng Geschicht vun de Grimm Bridder a mat Live Musek 
UID:event1630@Philharmonie.lu
URL:https://www.philharmonie.lu/programm/de-fraschekinnek/1630
END:VEVENT
END:VCALENDAR
