BEGIN:VCALENDAR
METHOD:PUBLISH
CALSCALE:GREGORIAN
PRODID:Philharmonie.lu
VERSION:2.0
BEGIN:VEVENT
DTSTAMP:20210423T111200
DTSTART:20210306T110000
DTEND:20210306T120000
LOCATION:Grand Auditorium
SUMMARY:«Die Schottische»
DESCRIPTION:Eng abenteuerlech a musikalesch Rees fir Kanner ab 6 Joer
Felix Mendelssohn Bartholdy: Symphonie N° 3 «Schottische» / «Écossaise» (Extraiten)
UID:event2907@Philharmonie.lu
URL:https://www.philharmonie.lu/programm/die-schottische/2907
END:VEVENT
END:VCALENDAR
