BEGIN:VCALENDAR
METHOD:PUBLISH
CALSCALE:GREGORIAN
PRODID:Philharmonie.lu
VERSION:2.0
BEGIN:VEVENT
DTSTAMP:20210425T192400
DTSTART:20181116T200000
DTEND:20181116T220000
LOCATION:Grand Auditorium
SUMMARY:«disappearances» − Aperghis & Janáček
DESCRIPTION:None
Leoš Janáček: Zápisník zmizelého (Journal d&#39;un disparu / Tagebuch eines Verschollenen) (orch. par Johannes Schöllhorn)
Georges Aperghis: Migrants
UID:event1884@Philharmonie.lu
URL:https://www.philharmonie.lu/programm/disappearances-aperghis-janacek/1884
END:VEVENT
END:VCALENDAR
