BEGIN:VCALENDAR
METHOD:PUBLISH
CALSCALE:GREGORIAN
PRODID:Philharmonie.lu
VERSION:2.0
BEGIN:VEVENT
DTSTAMP:20210423T105600
DTSTART:20210512T200000
DTEND:20210512T220000
LOCATION:Grand Auditorium
SUMMARY:Dobet Gnahoré with OPL & Gast Waltzing
DESCRIPTION:None
UID:event3520@Philharmonie.lu
URL:https://www.philharmonie.lu/programm/dobet-gnahore-with-opl-gast-waltzing/3520
END:VEVENT
END:VCALENDAR
