BEGIN:VCALENDAR
METHOD:PUBLISH
CALSCALE:GREGORIAN
PRODID:Philharmonie.lu
VERSION:2.0
BEGIN:VEVENT
DTSTAMP:20210425T192200
DTSTART:20181113T200000
DTEND:20181113T220000
LOCATION:Grand Auditorium
SUMMARY:Einstürzende Neubauten «Greatest Hits»
DESCRIPTION:rainy days opening
UID:event2090@Philharmonie.lu
URL:https://www.philharmonie.lu/programm/einsturzende-neubauten-greatest-hits/2090
END:VEVENT
END:VCALENDAR
