BEGIN:VCALENDAR
METHOD:PUBLISH
CALSCALE:GREGORIAN
PRODID:Philharmonie.lu
VERSION:2.0
BEGIN:VEVENT
DTSTAMP:20210425T194100
DTSTART:20151129T200000
DTEND:20151129T220000
LOCATION:Grand Auditorium
SUMMARY:Enno Poppe: Speicher
DESCRIPTION:None
Enno Poppe: Speicher I-VI
UID:event1024@Philharmonie.lu
URL:https://www.philharmonie.lu/programm/enno-poppe-speicher/1024
END:VEVENT
END:VCALENDAR
