BEGIN:VCALENDAR
METHOD:PUBLISH
CALSCALE:GREGORIAN
PRODID:Philharmonie.lu
VERSION:2.0
BEGIN:VEVENT
DTSTAMP:20210425T193600
DTSTART:20161210T173000
DTEND:20161210T193000
LOCATION:Salle de Musique de Chambre
SUMMARY:ensemble recherche
DESCRIPTION:«Wut im Bauch»
Milica Djordjević: Rdja [Rost]
Henry Cowell: Anger Dance pour piano
Henry Cowell: Tiger pour piano
Iris ter Schiphorst: …und Pommerland ist abgebrannt
Wolfgang Rihm: Paraphrase. pour violoncelle, percussion et piano
Antti Auvinen: Campiogesang  für Flöte, Klarinette, Klavier, Schlagzeug
Catherine Kontz: Die Regenmacher (création / Uraufführung, commande / Kompositionsauftrag Philharmonie Luxembourg)
Sergej Newski: Wut
Sergej Newski: Allegro hemmungsloso
Salvatore Sciarrino: Let me die before I wake for clarinet
Philippe Hurel: Pas à pas pour flûte, hautbois, clarinette, percussion et piano 
UID:event1385@Philharmonie.lu
URL:https://www.philharmonie.lu/programm/ensemble-recherche/1385
END:VEVENT
END:VCALENDAR
