BEGIN:VCALENDAR
METHOD:PUBLISH
CALSCALE:GREGORIAN
PRODID:Philharmonie.lu
VERSION:2.0
BEGIN:VEVENT
DTSTAMP:20210425T193100
DTSTART:20181124T160000
DTEND:20181124T180000
LOCATION:Salle de Musique de Chambre
SUMMARY:«Erinnerungsspuren» − Alberto Posadas
DESCRIPTION:Récital de piano
Alberto Posadas: Erinnerungsspuren. Zyklus für Klavier (commande Philharmonie, Südwestrundfunk et Westdeutscher Rundfunk)
UID:event1888@Philharmonie.lu
URL:https://www.philharmonie.lu/programm/erinnerungsspuren-alberto-posadas/1888
END:VEVENT
END:VCALENDAR
