BEGIN:VCALENDAR
METHOD:PUBLISH
CALSCALE:GREGORIAN
PRODID:Philharmonie.lu
VERSION:2.0
BEGIN:VEVENT
DTSTAMP:20210423T111500
DTSTART:20210315T200000
DTEND:20210315T220000
LOCATION:Grand Auditorium
SUMMARY:Gautier Capuçon & Jérôme Ducros
DESCRIPTION:None
Johannes Brahms: Cellosonate N° 1
Dmitri Chostakovitch: Sonate pour violoncelle et piano op. 40
Antonín Dvořák: Chant à la lune / Mondarie (Rusalka) (arr. Gautier Capuçon)
Piotr Ilitch Tchaïkovski: Valse sentimentale (Six morceaux pour piano op. 51)
Scott Joplin: The Entertainer
Vittorio Monti: Csárdás (arr. Gautier Capuçon)
Marguerite Monnot: «Hymne à l’amour» (arr. Jérôme Ducros)
UID:event2923@Philharmonie.lu
URL:https://www.philharmonie.lu/programm/gautier-capucon-jerome-ducros/2923
END:VEVENT
END:VCALENDAR
