BEGIN:VCALENDAR
METHOD:PUBLISH
CALSCALE:GREGORIAN
PRODID:Philharmonie.lu
VERSION:2.0
BEGIN:VEVENT
DTSTAMP:20210423T105800
DTSTART:20210703T210000
DTEND:20210703T230000
LOCATION:Kinnekswiss
SUMMARY:Gustavo Gimeno / OPL
DESCRIPTION:None
UID:event3015@Philharmonie.lu
URL:https://www.philharmonie.lu/programm/gustavo-gimeno-opl/3015
END:VEVENT
END:VCALENDAR
