BEGIN:VCALENDAR
METHOD:PUBLISH
CALSCALE:GREGORIAN
PRODID:Philharmonie.lu
VERSION:2.0
BEGIN:VEVENT
DTSTAMP:20210423T111200
DTSTART:20210304T190000
DTEND:20210304T210000
LOCATION:Grand Auditorium
SUMMARY:Jean-François Zygel «Voulez-vous faire l’humour avec moi?»
DESCRIPTION:None
UID:event2911@Philharmonie.lu
URL:https://www.philharmonie.lu/programm/jean-francois-zygel-voulez-vous-faire-lhumour-avec-moi/2911
END:VEVENT
END:VCALENDAR
