BEGIN:VCALENDAR
METHOD:PUBLISH
CALSCALE:GREGORIAN
PRODID:Philharmonie.lu
VERSION:2.0
BEGIN:VEVENT
DTSTAMP:20210423T111200
DTSTART:20210308T180000
DTEND:20210308T200000
LOCATION:Grand Auditorium
SUMMARY:Jean Muller 
DESCRIPTION:None
Ludwig van Beethoven: Klaviersonate op. 109
Pēteris Vasks: White Scenery for piano
Ludwig van Beethoven: Klaviersonate op. 110
Johann Sebastian Bach: Das Musikalische Opfer (L’Offrande musicale) BWV 1079 N° 5: Ricercar a sei
Wolfgang A. Mozart: Fantasie KV 475
Ludwig van Beethoven: Klaviersonate op. 111
UID:event3192@Philharmonie.lu
URL:https://www.philharmonie.lu/programm/jean-muller/3192
END:VEVENT
END:VCALENDAR
