BEGIN:VCALENDAR
METHOD:PUBLISH
CALSCALE:GREGORIAN
PRODID:Philharmonie.lu
VERSION:2.0
BEGIN:VEVENT
DTSTAMP:20200127T145500
DTSTART:20150509T200000
DTEND:20150509T220000
LOCATION:Grand Auditorium
SUMMARY:Jethro Tull's Ian Anderson
DESCRIPTION:None
UID:event684@Philharmonie.lu
URL:https://www.philharmonie.lu/programm/jethro-tulls-ian-anderson/684
END:VEVENT
END:VCALENDAR
