BEGIN:VCALENDAR
METHOD:PUBLISH
CALSCALE:GREGORIAN
PRODID:Philharmonie.lu
VERSION:2.0
BEGIN:VEVENT
DTSTAMP:20210425T193800
DTSTART:20151126T200000
DTEND:20151126T220000
LOCATION:Grand Auditorium
SUMMARY:Joseph Haydn & Helmut Lachenmann
DESCRIPTION:None
Joseph Haydn: Symphonie N° 94 «Mit dem Paukenschlag» / «La Surprise»
Helmut Lachenmann: Ausklang.
UID:event802@Philharmonie.lu
URL:https://www.philharmonie.lu/programm/joseph-haydn-helmut-lachenmann/802
END:VEVENT
END:VCALENDAR
