BEGIN:VCALENDAR
METHOD:PUBLISH
CALSCALE:GREGORIAN
PRODID:Philharmonie.lu
VERSION:2.0
BEGIN:VEVENT
DTSTAMP:20210423T110100
DTSTART:20210312T193000
DTEND:20210312T213000
LOCATION:Paris, Théâtre des Champs-Elysées
SUMMARY:«La Voix humaine» Jérémie Rhorer / OPL 
DESCRIPTION:None
Francis Poulenc: La Voix humaine.
Thierry Escaich: Point d&#39;orgue (création)
UID:event2917@Philharmonie.lu
URL:https://www.philharmonie.lu/programm/la-voix-humaine-jeremie-rhorer-opl/2917
END:VEVENT
END:VCALENDAR
