BEGIN:VCALENDAR
METHOD:PUBLISH
CALSCALE:GREGORIAN
PRODID:Philharmonie.lu
VERSION:2.0
BEGIN:VEVENT
DTSTAMP:20210425T193300
DTSTART:20171119T203000
DTEND:20171119T223000
LOCATION:Luxembourg, Carré
SUMMARY:«Le bal contemporain»
DESCRIPTION:Une soirée électro, rock, musette et musique contemporaine
François Sarhan: scènes d’amour pour 1 à n instruments et fichier son
Genoël von Lilienstern: Voz comercial (création)
Alexander Schubert: Superimpose II (night of the living dead)
Jacob TV: Grab it!
Camille Kerger: Marsch I &amp;amp; II fir drop zu daunzen
Traditional: Chant populaire serbe: «Da Zna Zora» (arr. Emmanuel Séjourné)
Traditional: Chant macédonien: «Kuna» (arr. Emmanuel Séjourné)
Jean Matitia: Au bonheur des dames (arr. Étienne Mercet)
Frank Zappa: White, Grey and Black Pages (arr. Henning Sieverts)
Frank Zappa: G-Spot Tornado (arr. Henning Sieverts)
Traditional: «Bésame mucho» (arr. Jean-Marc Foltz)
Traditional: «Quizás, quizás» (arr. Jean-Marc Foltz)
Chapelier Fou: Shunde’s Bronx
UID:event1723@Philharmonie.lu
URL:https://www.philharmonie.lu/programm/le-bal-contemporain/1723
END:VEVENT
END:VCALENDAR
