BEGIN:VCALENDAR
METHOD:PUBLISH
CALSCALE:GREGORIAN
PRODID:Philharmonie.lu
VERSION:2.0
BEGIN:VEVENT
DTSTAMP:20210423T105500
DTSTART:20210508T200000
DTEND:20210508T220000
LOCATION:Grand Auditorium
SUMMARY:Leonidas Kavakos / Gustavo Gimeno / OPL 
DESCRIPTION:
Ludwig van Beethoven: Symphonie N° 4
Ludwig van Beethoven: Violinkonzert
UID:event3471@Philharmonie.lu
URL:https://www.philharmonie.lu/programm/leonidas-kavakos-gustavo-gimeno-opl/3471
END:VEVENT
END:VCALENDAR
