BEGIN:VCALENDAR
METHOD:PUBLISH
CALSCALE:GREGORIAN
PRODID:Philharmonie.lu
VERSION:2.0
BEGIN:VEVENT
DTSTAMP:20210425T193200
DTSTART:20181124T220000
DTEND:20181125T000000
LOCATION:Espace Découverte
SUMMARY:«Les réalités acousmatiques»
DESCRIPTION:Hommage aux pionnières
Evelyne Gayou: Folle écoute (création, commande Philharmonie)
Éliane Radigue: Songs of Milarepa: Mila’s song in the rain
Micheline Coulombe Saint-Marcoux: Arksalalartôq
Annette Vande Gorne: Au-delà du réel
UID:event2132@Philharmonie.lu
URL:https://www.philharmonie.lu/programm/les-realites-acousmatiques/2132
END:VEVENT
END:VCALENDAR
