BEGIN:VCALENDAR
METHOD:PUBLISH
CALSCALE:GREGORIAN
PRODID:Philharmonie.lu
VERSION:2.0
BEGIN:VEVENT
DTSTAMP:20210423T111500
DTSTART:20210317T180000
DTEND:20210317T200000
LOCATION:Salle de Musique de Chambre
SUMMARY:LËTZ PHIL | Gast Waltzing Quintet
DESCRIPTION:None
UID:event3238@Philharmonie.lu
URL:https://www.philharmonie.lu/programm/letz-phil-gast-waltzing-quintet/3238
END:VEVENT
END:VCALENDAR
