BEGIN:VCALENDAR
METHOD:PUBLISH
CALSCALE:GREGORIAN
PRODID:Philharmonie.lu
VERSION:2.0
BEGIN:VEVENT
DTSTAMP:20210425T194000
DTSTART:20151129T110000
DTEND:20151129T130000
LOCATION:Luxembourg, Mudam
SUMMARY:Luca Francesconi: Piccolo trama
DESCRIPTION:None
Luca Francesconi: Piccola trama
UID:event1026@Philharmonie.lu
URL:https://www.philharmonie.lu/programm/luca-francesconi-piccolo-trama/1026
END:VEVENT
END:VCALENDAR
