BEGIN:VCALENDAR
METHOD:PUBLISH
CALSCALE:GREGORIAN
PRODID:Philharmonie.lu
VERSION:2.0
BEGIN:VEVENT
DTSTAMP:20210423T111500
DTSTART:20210317T123000
DTEND:20210317T143000
LOCATION:Grand Auditorium
SUMMARY:«Lunch concert – OPL’s Open Rehearsal»
DESCRIPTION:None
UID:event2924@Philharmonie.lu
URL:https://www.philharmonie.lu/programm/lunch-concert-opls-open-rehearsal/2924
END:VEVENT
END:VCALENDAR
