BEGIN:VCALENDAR
METHOD:PUBLISH
CALSCALE:GREGORIAN
PRODID:Philharmonie.lu
VERSION:2.0
BEGIN:VEVENT
DTSTAMP:20210423T105500
DTSTART:20210505T123000
DTEND:20210505T143000
LOCATION:Grand Auditorium
SUMMARY:«Lunch concert – OPL’s Open Rehearsal»
DESCRIPTION:None
UID:event2973@Philharmonie.lu
URL:https://www.philharmonie.lu/programm/lunch-concert-opls-open-rehearsal/2973
END:VEVENT
END:VCALENDAR
