BEGIN:VCALENDAR
METHOD:PUBLISH
CALSCALE:GREGORIAN
PRODID:Philharmonie.lu
VERSION:2.0
BEGIN:VEVENT
DTSTAMP:20210423T105800
DTSTART:20210618T200000
DTEND:20210618T220000
LOCATION:Grand Auditorium
SUMMARY:Martin Fröst / Maxim Emelyanychev / OPL
DESCRIPTION:None
Wolfgang A. Mozart: Klarinettenkonzert KV 622
Franz Schubert: Symphonie N° 9 D 944 «Große» / «La Grande»
UID:event3014@Philharmonie.lu
URL:https://www.philharmonie.lu/programm/martin-frost-maxim-emelyanychev-opl/3014
END:VEVENT
END:VCALENDAR
