BEGIN:VCALENDAR
METHOD:PUBLISH
CALSCALE:GREGORIAN
PRODID:Philharmonie.lu
VERSION:2.0
BEGIN:VEVENT
DTSTAMP:20210423T105900
DTSTART:20210201T200000
DTEND:20210201T220000
LOCATION:Philharmonie Essen
SUMMARY:Martin Grubinger / Gustavo Gimeno / OPL
DESCRIPTION:None
Charles Ives: The Unanswered Question
Daníel Bjarnason: Percussion Concerto
Piotr Ilitch Tchaïkovski: Symphonie N° 5
UID:event2878@Philharmonie.lu
URL:https://www.philharmonie.lu/programm/martin-grubinger-gustavo-gimeno-opl/2878
END:VEVENT
END:VCALENDAR
