BEGIN:VCALENDAR
METHOD:PUBLISH
CALSCALE:GREGORIAN
PRODID:Philharmonie.lu
VERSION:2.0
BEGIN:VEVENT
DTSTAMP:20210423T110100
DTSTART:20210209T193000
DTEND:20210209T213000
LOCATION:Konzerthaus
SUMMARY:Martin Grubinger / Gustavo Gimeno / OPL
DESCRIPTION:None
Frédéric Chopin: Concerto pour piano et orchestre N° 1
Felix Mendelssohn Bartholdy: Symphonie N° 4 «Italienische» / «Italienne»
UID:event2891@Philharmonie.lu
URL:https://www.philharmonie.lu/programm/martin-grubinger-gustavo-gimeno-opl/2891
END:VEVENT
END:VCALENDAR
