BEGIN:VCALENDAR
METHOD:PUBLISH
CALSCALE:GREGORIAN
PRODID:Philharmonie.lu
VERSION:2.0
BEGIN:VEVENT
DTSTAMP:20210423T111100
DTSTART:20210302T200000
DTEND:20210302T220000
LOCATION:Grand Auditorium
SUMMARY:Maurizio Pollini
DESCRIPTION:None
UID:event3021@Philharmonie.lu
URL:https://www.philharmonie.lu/programm/maurizio-pollini/3021
END:VEVENT
END:VCALENDAR
