BEGIN:VCALENDAR
METHOD:PUBLISH
CALSCALE:GREGORIAN
PRODID:Philharmonie.lu
VERSION:2.0
BEGIN:VEVENT
DTSTAMP:20210423T110200
DTSTART:20210331T123000
DTEND:20210331T143000
LOCATION:Salle de Musique de Chambre
SUMMARY:Midis baroques «Domenico Scarlatti, la mise en bouche des 555 sonates»
DESCRIPTION:None
Domenico Scarlatti: Sonata K 27
Domenico Scarlatti: Sonata K 87 
Domenico Scarlatti: Sonata K 115
Domenico Scarlatti: Sonata K 119
Domenico Scarlatti: Sonata K 141
Domenico Scarlatti: Sonata K 238
Domenico Scarlatti: Sonata K 239
UID:event2949@Philharmonie.lu
URL:https://www.philharmonie.lu/programm/midis-baroques-domenico-scarlatti-la-mise-en-bouche-des-555-sonates/2949
END:VEVENT
END:VCALENDAR
