BEGIN:VCALENDAR
METHOD:PUBLISH
CALSCALE:GREGORIAN
PRODID:Philharmonie.lu
VERSION:2.0
BEGIN:VEVENT
DTSTAMP:20210423T110200
DTSTART:20210519T123000
DTEND:20210519T143000
LOCATION:Espace Découverte
SUMMARY:Midis baroques «Musique et chocolat»
DESCRIPTION:None
UID:event2992@Philharmonie.lu
URL:https://www.philharmonie.lu/programm/midis-baroques-musique-et-chocolat/2992
END:VEVENT
END:VCALENDAR
