BEGIN:VCALENDAR
METHOD:PUBLISH
CALSCALE:GREGORIAN
PRODID:Philharmonie.lu
VERSION:2.0
BEGIN:VEVENT
DTSTAMP:20210423T111200
DTSTART:20210306T200000
DTEND:20210306T220000
LOCATION:Grand Auditorium
SUMMARY:Mitsuko Uchida /  Mahler Chamber Orchestra
DESCRIPTION:None
Wolfgang A. Mozart: Klavierkonzert N° 18 KV 456
Wolfgang A. Mozart: Idomeneo: Ballet
Wolfgang A. Mozart: Klavierkonzert N° 21 KV 467
UID:event3167@Philharmonie.lu
URL:https://www.philharmonie.lu/programm/mitsuko-uchida-mahler-chamber-orchestra/3167
END:VEVENT
END:VCALENDAR
