BEGIN:VCALENDAR
METHOD:PUBLISH
CALSCALE:GREGORIAN
PRODID:Philharmonie.lu
VERSION:2.0
BEGIN:VEVENT
DTSTAMP:20210423T105600
DTSTART:20210521T200000
DTEND:20210521T220000
LOCATION:Grand Auditorium
SUMMARY:Nikolaj Szeps-Znaider / Saleem Ashkar / OPL
DESCRIPTION:None
Carl Maria von Weber: Oberon: Ouvertüre
Frédéric Chopin: Concerto pour piano et orchestre N° 1
Robert Schumann: Symphonie N° 3 «Rheinische» / «Rhénane»
UID:event2993@Philharmonie.lu
URL:https://www.philharmonie.lu/programm/nikolaj-szeps-znaider-saleem-ashkar-opl/2993
END:VEVENT
END:VCALENDAR
