BEGIN:VCALENDAR
METHOD:PUBLISH
CALSCALE:GREGORIAN
PRODID:Philharmonie.lu
VERSION:2.0
BEGIN:VEVENT
DTSTAMP:20210423T111300
DTSTART:20210310T190000
DTEND:20210310T210000
LOCATION:Salle de Musique de Chambre
SUMMARY:Nora Fischer & Marnix Dorrestein
DESCRIPTION:«HUSH»
UID:event2913@Philharmonie.lu
URL:https://www.philharmonie.lu/programm/nora-fischer-marnix-dorrestein/2913
END:VEVENT
END:VCALENDAR
