BEGIN:VCALENDAR
METHOD:PUBLISH
CALSCALE:GREGORIAN
PRODID:Philharmonie.lu
VERSION:2.0
BEGIN:VEVENT
DTSTAMP:20200127T145300
DTSTART:20150322T170000
DTEND:20150322T190000
LOCATION:Salle de Musique de Chambre
SUMMARY:OCL / Reiland / Weiler / Kremer
DESCRIPTION:None
Charles Ives: The Unanswered Question
Marco Pütz: Conversations pour trompette, piano et cordes
Astor Piazzolla: Tres movimientos tanguísticos porteños
UID:event547@Philharmonie.lu
URL:https://www.philharmonie.lu/programm/ocl-reiland-weiler-kremer/547
END:VEVENT
END:VCALENDAR
