BEGIN:VCALENDAR
METHOD:PUBLISH
CALSCALE:GREGORIAN
PRODID:Philharmonie.lu
VERSION:2.0
BEGIN:VEVENT
DTSTAMP:20210423T105700
DTSTART:20210605T203000
DTEND:20210605T223000
LOCATION:La Comète
SUMMARY:OPL / Teddy Abrams / Vincent Peirani
DESCRIPTION:None
Igor Stravinsky: Danses concertantes
John Adams: The Chairman Dances.
Vincent Peirani: Clessidra (création, commande Philharmonie Luxembourg et La Comète, Châlons-en-Champagne)
UID:event3001@Philharmonie.lu
URL:https://www.philharmonie.lu/programm/opl-teddy-abrams-vincent-peirani/3001
END:VEVENT
END:VCALENDAR
