BEGIN:VCALENDAR
METHOD:PUBLISH
CALSCALE:GREGORIAN
PRODID:Philharmonie.lu
VERSION:2.0
BEGIN:VEVENT
DTSTAMP:20210423T111400
DTSTART:20210312T200000
DTEND:20210312T220000
LOCATION:Grand Auditorium
SUMMARY:Patricia Petibon / Jérémie Rhorer / OPL «La Voix humaine» 
DESCRIPTION:None
Sergueï Prokofiev: Symphonie N° 1 «Symphonie classique»
Francis Poulenc: La Voix humaine.
UID:event3224@Philharmonie.lu
URL:https://www.philharmonie.lu/programm/patricia-petibon-jeremie-rhorer-opl-la-voix-humaine/3224
END:VEVENT
END:VCALENDAR
