BEGIN:VCALENDAR
METHOD:PUBLISH
CALSCALE:GREGORIAN
PRODID:Philharmonie.lu
VERSION:2.0
BEGIN:VEVENT
DTSTAMP:20200127T145000
DTSTART:20140922T200000
DTEND:20140922T220000
LOCATION:Grand Auditorium
SUMMARY:SEL / König / R. & G. Capuçon /  Braley
DESCRIPTION:None
Marco Pütz: Strömungen (commande / Kompositionsauftrag Ministère de la Culture)
Ludwig van Beethoven: Tripelkonzert
Antonín Dvořák: Symphonie N° 9 «Du Nouveau Monde» / «Aus der Neuen Welt»
UID:event412@Philharmonie.lu
URL:https://www.philharmonie.lu/programm/sel-konig-r-g-capucon-braley/412
END:VEVENT
END:VCALENDAR
