BEGIN:VCALENDAR
METHOD:PUBLISH
CALSCALE:GREGORIAN
PRODID:Philharmonie.lu
VERSION:2.0
BEGIN:VEVENT
DTSTAMP:20210423T110000
DTSTART:20210203T201500
DTEND:20210203T221500
LOCATION:Amsterdam, Het Concertgebouw (Grote Zaal)
SUMMARY:Seong-Jin Cho / Gustavo Gimeno / OPL
DESCRIPTION:None
Frédéric Chopin: Concerto pour piano et orchestre N° 1
Felix Mendelssohn Bartholdy: Symphonie N° 4 «Italienische» / «Italienne»
UID:event2881@Philharmonie.lu
URL:https://www.philharmonie.lu/programm/seong-jin-cho-gustavo-gimeno-opl/2881
END:VEVENT
END:VCALENDAR
