BEGIN:VCALENDAR
METHOD:PUBLISH
CALSCALE:GREGORIAN
PRODID:Philharmonie.lu
VERSION:2.0
BEGIN:VEVENT
DTSTAMP:20210423T111400
DTSTART:20210313T200000
DTEND:20210313T220000
LOCATION:Grand Auditorium
SUMMARY:Side by Side – Gershwin / Copland / Bernstein
DESCRIPTION:None
George Gershwin: An American in Paris
Aaron Copland: Appalachian Spring. Suite for full orchestra
Leonard Bernstein: Symphonic Dances from West Side Story
UID:event2919@Philharmonie.lu
URL:https://www.philharmonie.lu/programm/side-by-side-gershwin-copland-bernstein/2919
END:VEVENT
END:VCALENDAR
